BEGIN:VCALENDAR
VERSION:2.0
PRODID:-//Catholic Charities of Central Colorado - ECPv6.15.20//NONSGML v1.0//EN
CALSCALE:GREGORIAN
METHOD:PUBLISH
X-WR-CALNAME:Catholic Charities of Central Colorado
X-ORIGINAL-URL:https://www.ccharitiescc.org
X-WR-CALDESC:Events for Catholic Charities of Central Colorado
REFRESH-INTERVAL;VALUE=DURATION:PT1H
X-Robots-Tag:noindex
X-PUBLISHED-TTL:PT1H
BEGIN:VTIMEZONE
TZID:UTC
BEGIN:STANDARD
TZOFFSETFROM:+0000
TZOFFSETTO:+0000
TZNAME:UTC
DTSTART:20230101T000000
END:STANDARD
END:VTIMEZONE
BEGIN:VEVENT
DTSTART;TZID=UTC:20241014T080000
DTEND;TZID=UTC:20241014T170000
DTSTAMP:20260424T082740
CREATED:20251013T222238Z
LAST-MODIFIED:20250124T163454Z
UID:10001841-1728892800-1728925200@www.ccharitiescc.org
SUMMARY:Columbus Day
DESCRIPTION:
URL:https://www.ccharitiescc.org/event/columbus-day-2/2024-10-14/
CATEGORIES:Holiday
END:VEVENT
BEGIN:VEVENT
DTSTART;TZID=UTC:20241101T080000
DTEND;TZID=UTC:20241101T170000
DTSTAMP:20260424T082740
CREATED:20251101T151509Z
LAST-MODIFIED:20250124T163432Z
UID:10001851-1730448000-1730480400@www.ccharitiescc.org
SUMMARY:All Saints Day | Catholic Charities Closed
DESCRIPTION:All Saints Day | Catholic Charities Closed.\nMarian House Kitchen open normal hours for the mid-day meal:  10:30 a.m. – 1 p.m.
URL:https://www.ccharitiescc.org/event/all-saints-day-catholic-charities-closed/2024-11-01/
CATEGORIES:Holiday
END:VEVENT
BEGIN:VEVENT
DTSTART;TZID=UTC:20241111T000000
DTEND;TZID=UTC:20241111T235959
DTSTAMP:20260424T082740
CREATED:20251111T202220Z
LAST-MODIFIED:20250124T163400Z
UID:10001148-1731283200-1731369599@www.ccharitiescc.org
SUMMARY:Veterans Day
DESCRIPTION:Veterans Day – November 11\nThank you to all Veterans who served to protect our great nation.
URL:https://www.ccharitiescc.org/event/veterans-day/2024-11-11/
CATEGORIES:Holiday
END:VEVENT
BEGIN:VEVENT
DTSTART;TZID=UTC:20241128T000000
DTEND;TZID=UTC:20241128T235959
DTSTAMP:20260424T082740
CREATED:20251127T202258Z
LAST-MODIFIED:20250124T162938Z
UID:10001153-1732752000-1732838399@www.ccharitiescc.org
SUMMARY:Thanksgiving Day | Catholic Charities Closed
DESCRIPTION:Thanksgiving Day | Catholic Charities Closed\nCatholic Charities is closed for the Thanksgiving holiday. \nThe Marian House Kitchen is open from 10:30 a.m. – 1 p.m.  for the Thanksgiving meal.
URL:https://www.ccharitiescc.org/event/thanksgiving-day-catholic-charities-closed/2024-11-28/
CATEGORIES:Holiday
END:VEVENT
BEGIN:VEVENT
DTSTART;TZID=UTC:20250525T000000
DTEND;TZID=UTC:20250525T235959
DTSTAMP:20260424T082740
CREATED:20250526T201829Z
LAST-MODIFIED:20250124T161622Z
UID:10001835-1748131200-1748217599@www.ccharitiescc.org
SUMMARY:Memorial Day| Catholic Charities Closed
DESCRIPTION:Memorial Day| Catholic Charities Closed\nMarian House Kitchen open for normal hours for the mid-day meal from 10:30 a.m. to 1 p.m.
URL:https://www.ccharitiescc.org/event/memorial-day-catholic-charities-closed/2025-05-25/
CATEGORIES:Holiday
END:VEVENT
BEGIN:VEVENT
DTSTART;TZID=UTC:20251208T080000
DTEND;TZID=UTC:20251208T170000
DTSTAMP:20260424T082740
CREATED:20251205T202701Z
LAST-MODIFIED:20251205T202703Z
UID:10002937-1765180800-1765213200@www.ccharitiescc.org
SUMMARY:The Immaculate Conception of the Blessed Virgin Mary | Catholic Charities Closed
DESCRIPTION:The Immaculate Conception of the Blessed Virgin Mary | Catholic Charities Closed\nCatholic Charities will be closed in observance of the Immaculate Conception on Monday\, December 8. \nMarian House Kitchen open for normal serving hours:  10:30 a.m. to 1 p.m.
URL:https://www.ccharitiescc.org/event/the-immaculate-conception-of-the-blessed-virgin-mary-catholic-charities-closed/2025-12-08/
CATEGORIES:Holiday
END:VEVENT
END:VCALENDAR