BEGIN:VCALENDAR
VERSION:2.0
PRODID:-//Catholic Charities of Central Colorado - ECPv6.15.20//NONSGML v1.0//EN
CALSCALE:GREGORIAN
METHOD:PUBLISH
X-WR-CALNAME:Catholic Charities of Central Colorado
X-ORIGINAL-URL:https://www.ccharitiescc.org
X-WR-CALDESC:Events for Catholic Charities of Central Colorado
REFRESH-INTERVAL;VALUE=DURATION:PT1H
X-Robots-Tag:noindex
X-PUBLISHED-TTL:PT1H
BEGIN:VTIMEZONE
TZID:UTC
BEGIN:STANDARD
TZOFFSETFROM:+0000
TZOFFSETTO:+0000
TZNAME:UTC
DTSTART:20230101T000000
END:STANDARD
END:VTIMEZONE
BEGIN:VEVENT
DTSTART;TZID=UTC:20240815T000000
DTEND;TZID=UTC:20240815T235959
DTSTAMP:20260424T082301
CREATED:20250815T201955Z
LAST-MODIFIED:20250124T163640Z
UID:10001136-1723680000-1723766399@www.ccharitiescc.org
SUMMARY:Assumption of the Blessed Virgin Mary | Catholic Charities Closed
DESCRIPTION:
URL:https://www.ccharitiescc.org/event/assumption-of-the-blessed-virgin-mary-catholic-charities-closed/2024-08-15/
CATEGORIES:Holiday
END:VEVENT
BEGIN:VEVENT
DTSTART;TZID=UTC:20240815T180000
DTEND;TZID=UTC:20240815T200000
DTSTAMP:20260424T082301
CREATED:20230511T200752Z
LAST-MODIFIED:20230817T133831Z
UID:10000339-1723744800-1723752000@www.ccharitiescc.org
SUMMARY:Circle of Fathers
DESCRIPTION:Thursday 6:00 PM – 8:00 PM \n  \nFamily Connections \n  \nHelen Hunt Campus \n  \n601 S Institute St \n  \nColorado Springs\, CO 80903 \n  \nKDobyns@CCharitiesCC.org
URL:https://www.ccharitiescc.org/event/circle-of-fathers/2024-08-15/
CATEGORIES:Programs
ATTACH;FMTTYPE=image/jpeg:https://www.ccharitiescc.org/wp-content/uploads/Circle-of-Fathers-Events.jpeg
END:VEVENT
BEGIN:VEVENT
DTSTART;VALUE=DATE:20240902
DTEND;VALUE=DATE:20240903
DTSTAMP:20260424T082301
CREATED:20250901T202038Z
LAST-MODIFIED:20250124T163620Z
UID:10001141-1725235200-1725321599@www.ccharitiescc.org
SUMMARY:Labor Day | Catholic Charities Closed
DESCRIPTION:Happy labor day card with people professions and jobs cartoons vector illustration graphic design\n										\n			\n			\n				\n					Catholic Charities will be closed in recognition of the Labor Day Holiday. \nMarian House Kitchen will be open for normal serving hours from 10:30 a.m. – 1 p.m.
URL:https://www.ccharitiescc.org/event/labor-day-catholic-charities-closed/2024-09-02/
CATEGORIES:Holiday
END:VEVENT
BEGIN:VEVENT
DTSTART;TZID=UTC:20241007T000000
DTEND;TZID=UTC:20241007T235959
DTSTAMP:20260424T082301
CREATED:20251006T202108Z
LAST-MODIFIED:20250124T163525Z
UID:10001818-1728259200-1728345599@www.ccharitiescc.org
SUMMARY:Cabrini Day Day
DESCRIPTION:  \n\n\n  \n\n\n\n\n\n	\n	\n		\n			\n				\n					\n										\n			\n			\n				\n					A Colorado State Holiday\, Cabrini Day honors a humanitarian\, Frances Xavier Cabrini. \nSupporters of Cabrini Day believe in its power to uplift and unite Colorado through kindness\, compassion\, and community centered activities.
URL:https://www.ccharitiescc.org/event/columbus-day/2024-10-07/
CATEGORIES:Holiday
END:VEVENT
BEGIN:VEVENT
DTSTART;TZID=UTC:20241014T080000
DTEND;TZID=UTC:20241014T170000
DTSTAMP:20260424T082301
CREATED:20251013T222238Z
LAST-MODIFIED:20250124T163454Z
UID:10001841-1728892800-1728925200@www.ccharitiescc.org
SUMMARY:Columbus Day
DESCRIPTION:
URL:https://www.ccharitiescc.org/event/columbus-day-2/2024-10-14/
CATEGORIES:Holiday
END:VEVENT
BEGIN:VEVENT
DTSTART;TZID=UTC:20241101T080000
DTEND;TZID=UTC:20241101T170000
DTSTAMP:20260424T082301
CREATED:20251101T151509Z
LAST-MODIFIED:20250124T163432Z
UID:10001851-1730448000-1730480400@www.ccharitiescc.org
SUMMARY:All Saints Day | Catholic Charities Closed
DESCRIPTION:All Saints Day | Catholic Charities Closed.\nMarian House Kitchen open normal hours for the mid-day meal:  10:30 a.m. – 1 p.m.
URL:https://www.ccharitiescc.org/event/all-saints-day-catholic-charities-closed/2024-11-01/
CATEGORIES:Holiday
END:VEVENT
BEGIN:VEVENT
DTSTART;TZID=UTC:20241111T000000
DTEND;TZID=UTC:20241111T235959
DTSTAMP:20260424T082301
CREATED:20251111T202220Z
LAST-MODIFIED:20250124T163400Z
UID:10001148-1731283200-1731369599@www.ccharitiescc.org
SUMMARY:Veterans Day
DESCRIPTION:Veterans Day – November 11\nThank you to all Veterans who served to protect our great nation.
URL:https://www.ccharitiescc.org/event/veterans-day/2024-11-11/
CATEGORIES:Holiday
END:VEVENT
BEGIN:VEVENT
DTSTART;TZID=UTC:20241128T000000
DTEND;TZID=UTC:20241128T235959
DTSTAMP:20260424T082301
CREATED:20251127T202258Z
LAST-MODIFIED:20250124T162938Z
UID:10001153-1732752000-1732838399@www.ccharitiescc.org
SUMMARY:Thanksgiving Day | Catholic Charities Closed
DESCRIPTION:Thanksgiving Day | Catholic Charities Closed\nCatholic Charities is closed for the Thanksgiving holiday. \nThe Marian House Kitchen is open from 10:30 a.m. – 1 p.m.  for the Thanksgiving meal.
URL:https://www.ccharitiescc.org/event/thanksgiving-day-catholic-charities-closed/2024-11-28/
CATEGORIES:Holiday
END:VEVENT
BEGIN:VEVENT
DTSTART;TZID=UTC:20241205T180000
DTEND;TZID=UTC:20241205T190000
DTSTAMP:20260424T082301
CREATED:20250131T031117Z
LAST-MODIFIED:20250131T031119Z
UID:10001373-1733421600-1733425200@www.ccharitiescc.org
SUMMARY:Las Posadas
DESCRIPTION:Home\n»\n	Archives for Events\n          \n            New Years Day | Catholic Charities Closed\n            \n              \n            \n            \n                          \n          \n        \n\n                  \n            \n              \n                \n\n                  \n                      Cancelled for 2024\n                      \n                                                                    \n                          \n                        \n                                            \n                                              \n                          Questions?\n                        \n                      \n                  \n                \n              \n            \n          \n        \n                  \n            \n              \n                \n				                    \n                    \n                  \n                \n              \n            \n          \n        \n      \n    \n\n    \n      Check back for more information on the 2025 event.\nWhat is Las Posadas?\nLas Posadas is a traditional celebration symbolizing the search of Mary and Joseph for a place for Jesus to be born. Participants process from house to house\, pretending to be Mary and Joseph. At each house\, the “pilgrims” sing the traditional song asking for shelter. Each house refuses them until they are finally welcomed at the place of celebration.  This year\, the celebration will take place at the Marian House Campus and will be a fundraiser.  More details to follow. \n    \n\n  \n\n\n\n\n\n  \n    \n              \n          \n            \n              \n            \n          \n        \n            \n                  14 West Bijou Street\n                      \n    \n      \n\n\n\n\n\n\n\n\n	\n	\n		\n			\n				More Info\nWe thank you for your continued support of Catholic Charities through the Las Posadas cultural event.  Your support allows us to help so many of our vulnerable neighbors in need and to continue to host this event which showcases the plight of immigrants in today’s society. \nWe need your help more than ever. Consider making your 100% tax-deductible gift today to give hope to an individual or family in need today. If you would like to make a donation: \n\nClick “Donate” in the top menu bar of this page or click here\nMail a check to: Catholic Charities at 228 North Cascade Ave\, Colorado Springs\, CO 80903\nExplore more giving options\, such as stock transfers\,  IRA Qualified Charitable Distributions (QCDs)\, the Sponsor a Day program\, legacy giving\, and more.\n\n				\n\n				  \n				\n			\n		\n	\n\n\n\n			\n	\n		\n							Photo Gallery\n						\n				\n					\n						\n							\n																\n																				\n												\n													\n														\n														\n												\n																									Caption. Nemo enim ipsam voluptatem quia voluptas sit aspernatur.\n																							\n																	\n																				\n												\n													\n														\n														\n												\n																									Caption. Nemo enim ipsam voluptatem quia voluptas sit aspernatur.
URL:https://www.ccharitiescc.org/event/las-posadas/
CATEGORIES:Major Events
ATTACH;FMTTYPE=image/jpeg:https://www.ccharitiescc.org/wp-content/uploads/Las-Posadas-2021_0026-scaled-1.jpeg
END:VEVENT
BEGIN:VEVENT
DTSTART;TZID=UTC:20241224T000000
DTEND;TZID=UTC:20241224T235959
DTSTAMP:20260424T082301
CREATED:20251205T203404Z
LAST-MODIFIED:20251205T203543Z
UID:10001812-1734998400-1735084799@www.ccharitiescc.org
SUMMARY:Christmas Eve | Catholic Charities Closed
DESCRIPTION:Christmas Eve | Catholic Charities Closed\n \nCatholic Charities will be closed on Christmas Eve. \nMarian House Kitchen will have normal service hours: 10:30 a.m. – 1 p.m.
URL:https://www.ccharitiescc.org/event/christmas-eve-catholic-charities-closed/2024-12-24/
CATEGORIES:Holiday
ATTACH;FMTTYPE=image/jpeg:https://www.ccharitiescc.org/wp-content/uploads/Ribbon-Christmas-Tree-scaled.jpg
END:VEVENT
BEGIN:VEVENT
DTSTART;TZID=UTC:20241225T000000
DTEND;TZID=UTC:20241225T235959
DTSTAMP:20260424T082301
CREATED:20251205T204022Z
LAST-MODIFIED:20251205T204027Z
UID:10002951-1735084800-1735171199@www.ccharitiescc.org
SUMMARY:Christmas Day | Catholic Charities Closed
DESCRIPTION:Christmas Day | Catholic Charities Closed\n \nCatholic Charities is closed on Christmas Day.  \nHowever\, the Marian House is open from 10:30 am – 1 pm for a Christmas Day meal. \nMerry Christmas!
URL:https://www.ccharitiescc.org/event/christmas-day-catholic-charities-closed/2024-12-25/
CATEGORIES:Holiday
ATTACH;FMTTYPE=image/jpeg:https://www.ccharitiescc.org/wp-content/uploads/Ribbon-Christmas-Tree-scaled.jpg
END:VEVENT
BEGIN:VEVENT
DTSTART;TZID=UTC:20241225T000000
DTEND;TZID=UTC:20241225T235959
DTSTAMP:20260424T082301
CREATED:20251225T180043Z
LAST-MODIFIED:20251205T203921Z
UID:10001807-1735084800-1735171199@www.ccharitiescc.org
SUMMARY:Christmas Day | Catholic Charities Closed
DESCRIPTION:Christmas Day | Catholic Charities Closed\n \nCatholic Charities is closed on Christmas Day.  \nHowever\, the Marian House is open from 10:30 am – 1 pm for a Christmas Day meal. \nMerry Christmas!
URL:https://www.ccharitiescc.org/event/christmas-day-catholic-charities-closed-2/2024-12-25/
CATEGORIES:Holiday
ATTACH;FMTTYPE=image/jpeg:https://www.ccharitiescc.org/wp-content/uploads/Ribbon-Christmas-Tree-scaled.jpg
END:VEVENT
BEGIN:VEVENT
DTSTART;TZID=UTC:20250101T080000
DTEND;TZID=UTC:20250101T170000
DTSTAMP:20260424T082301
CREATED:20260101T170804Z
LAST-MODIFIED:20251205T204121Z
UID:10001859-1735718400-1735750800@www.ccharitiescc.org
SUMMARY:New Years Day | Catholic Charities Closed
DESCRIPTION:New Years Day | Catholic Charities Closed\nMarian House Kitchen has normal serving hours:  10:30 a.m. to 1 p.m.
URL:https://www.ccharitiescc.org/event/new-years-day-catholic-charities-closed/2025-01-01/
CATEGORIES:Holiday
END:VEVENT
BEGIN:VEVENT
DTSTART;TZID=UTC:20250124T090000
DTEND;TZID=UTC:20250124T103000
DTSTAMP:20260424T082301
CREATED:20250124T170704Z
LAST-MODIFIED:20250724T202011Z
UID:10002700-1737709200-1737714600@www.ccharitiescc.org
SUMMARY:Weekly Playgroup 1
DESCRIPTION:Parents of preschool-aged children birth to 5 gather to read\, craft\, socialize\, play\, build community.
URL:https://www.ccharitiescc.org/event/weekly-playgroup-1/2025-01-24/
ATTACH;FMTTYPE=image/webp:https://www.ccharitiescc.org/wp-content/uploads/play-group-family-reading-time-900-x-600-RGB-1.webp
END:VEVENT
BEGIN:VEVENT
DTSTART;TZID=UTC:20250124T110000
DTEND;TZID=UTC:20250124T123000
DTSTAMP:20260424T082301
CREATED:20250124T165957Z
LAST-MODIFIED:20250124T171916Z
UID:10002439-1737716400-1737721800@www.ccharitiescc.org
SUMMARY:Weekly Playgroup 2
DESCRIPTION:parents of preschool-aged children meet to play\, read\, craft\, socialize\, build community
URL:https://www.ccharitiescc.org/event/weekly-playgroup-2/2025-01-24/
CATEGORIES:Programs
ATTACH;FMTTYPE=image/jpeg:https://www.ccharitiescc.org/wp-content/uploads/playgroup-for-Events.jpeg
END:VEVENT
BEGIN:VEVENT
DTSTART;TZID=UTC:20250217T000000
DTEND;TZID=UTC:20250217T235959
DTSTAMP:20260424T082301
CREATED:20250129T171423Z
LAST-MODIFIED:20250129T171423Z
UID:10001803-1739750400-1739836799@www.ccharitiescc.org
SUMMARY:Presidents Day | Catholic Charities Closed
DESCRIPTION:
URL:https://www.ccharitiescc.org/event/presidents-day-catholic-charities-closed/
CATEGORIES:Holiday
END:VEVENT
BEGIN:VEVENT
DTSTART;TZID=UTC:20250218T170000
DTEND;TZID=UTC:20250218T190000
DTSTAMP:20260424T082301
CREATED:20250124T193230Z
LAST-MODIFIED:20250410T163640Z
UID:10002761-1739898000-1739905200@www.ccharitiescc.org
SUMMARY:Combined Circle Groups
DESCRIPTION:Moms and Dads circle groups meet together in a supportive environment to learn from each other.  We openly celebrate success\, address challenges\, and find information and resources to support raising children.  Children’s Circle programming is provided during parent meetings.
URL:https://www.ccharitiescc.org/event/combined-circle-groups/2025-02-18/
CATEGORIES:Programs
ATTACH;FMTTYPE=image/jpeg:https://www.ccharitiescc.org/wp-content/uploads/Rodney-and-Amanda-with-Leah-600-x-800.jpg
END:VEVENT
BEGIN:VEVENT
DTSTART;TZID=UTC:20250418T080000
DTEND;TZID=UTC:20250418T170000
DTSTAMP:20260424T082301
CREATED:20250124T171148Z
LAST-MODIFIED:20250124T171151Z
UID:10002701-1744963200-1744995600@www.ccharitiescc.org
SUMMARY:Good Friday |  Catholic Charities closed
DESCRIPTION:
URL:https://www.ccharitiescc.org/event/good-friday-catholic-charities-closed/
END:VEVENT
BEGIN:VEVENT
DTSTART;TZID=UTC:20250525T000000
DTEND;TZID=UTC:20250525T235959
DTSTAMP:20260424T082301
CREATED:20250526T201829Z
LAST-MODIFIED:20250124T161622Z
UID:10001835-1748131200-1748217599@www.ccharitiescc.org
SUMMARY:Memorial Day| Catholic Charities Closed
DESCRIPTION:Memorial Day| Catholic Charities Closed\nMarian House Kitchen open for normal hours for the mid-day meal from 10:30 a.m. to 1 p.m.
URL:https://www.ccharitiescc.org/event/memorial-day-catholic-charities-closed/2025-05-25/
CATEGORIES:Holiday
END:VEVENT
BEGIN:VEVENT
DTSTART;TZID=UTC:20250704T000000
DTEND;TZID=UTC:20250704T235959
DTSTAMP:20260424T082302
CREATED:20250704T215213Z
LAST-MODIFIED:20250124T162242Z
UID:10001132-1751587200-1751673599@www.ccharitiescc.org
SUMMARY:Independence Day | Catholic Charities Closed
DESCRIPTION:Independence Day | Catholic Charities Closed \nMarian House Kitchen open for normal mid-day meal from 10:30 a.m. to 1 p.m. \nHappy Independence Day!
URL:https://www.ccharitiescc.org/event/independence-day-catholic-charities-closed-2/2025-07-04/
CATEGORIES:Holiday
END:VEVENT
BEGIN:VEVENT
DTSTART;TZID=UTC:20251208T080000
DTEND;TZID=UTC:20251208T170000
DTSTAMP:20260424T082302
CREATED:20251205T202701Z
LAST-MODIFIED:20251205T202703Z
UID:10002937-1765180800-1765213200@www.ccharitiescc.org
SUMMARY:The Immaculate Conception of the Blessed Virgin Mary | Catholic Charities Closed
DESCRIPTION:The Immaculate Conception of the Blessed Virgin Mary | Catholic Charities Closed\nCatholic Charities will be closed in observance of the Immaculate Conception on Monday\, December 8. \nMarian House Kitchen open for normal serving hours:  10:30 a.m. to 1 p.m.
URL:https://www.ccharitiescc.org/event/the-immaculate-conception-of-the-blessed-virgin-mary-catholic-charities-closed/2025-12-08/
CATEGORIES:Holiday
END:VEVENT
BEGIN:VEVENT
DTSTART;TZID=UTC:20251231T080000
DTEND;TZID=UTC:20251231T170000
DTSTAMP:20260424T082302
CREATED:20251205T204327Z
LAST-MODIFIED:20251205T211018Z
UID:10002955-1767168000-1767200400@www.ccharitiescc.org
SUMMARY:New Year's Eve | Catholic Charities Closed
DESCRIPTION:New Year’s Eve | Catholic Charities Closed\nMarian House Kitchen open for normal serving hours:  10:30 a.m. – 1 p.m.
URL:https://www.ccharitiescc.org/event/new-years-eve-catholic-charities-closed-2/2025-12-31/
CATEGORIES:Holiday
END:VEVENT
BEGIN:VEVENT
DTSTART;TZID=UTC:20260314T160000
DTEND;TZID=UTC:20260314T200000
DTSTAMP:20260424T082302
CREATED:20250131T025831Z
LAST-MODIFIED:20260211T223510Z
UID:10002825-1773504000-1773518400@www.ccharitiescc.org
SUMMARY:St Patrick's Gala Celebration:  25th Annual
DESCRIPTION:Home\n»\n	Archives for Events\n          \n            New Years Day | Catholic Charities Closed\n            \n              \n            \n            \n                          \n          \n        \n\n                  \n            \n              \n                \n\n                  \n                      Join Us March 14\, 2026 at the St Patrick’s Gala\n                      \n                                              Get Your Early Bird Tickets Now! \n                                                                    \n                          \n                        \n                                                                    Cheyenne Mountain Resort \n                      \n                                              \n                          CLICK HERE TO:  BUY TICKETS\, Preview Auction Items\, and Meet Our Sponsors\n                        \n                      \n                  \n                \n              \n            \n          \n        \n                  \n            \n              \n                \n				  Can’t Attend but Want to Support the Pot of Gold?\n  \n                  \n                    \n                  \n                \n              \n            \n          \n        \n      \n    \n\n    \n      Join us on March 14th at 5 p.m.\nat the Cheyenne Mountain Resort\nas we kick off our 25th Annual St. Patrick’s Day Silver Celebration\nInterested in becoming a sponsor or reserving your table now?  Contact us at 719-866-6539 or 719-866-6440!\n  \nMenu items:  Irish Pub Salad\, Entree Choice of:  Roasted Chicken with Colcannon and Roasted Carrots\, Corned Beef and Purple Cabbage with Colcannon (GF)\, or Vegan Dublin Coddle – aka Vege Bangers & Mash (VG\, DF\, GF\, V)\, Dessert Choice of:  Bread & Butter Pudding (V)\, Irish Creme Chocolate Trifle (V\, GF)\, Sorbet (V\, Vegetarian\, GF\, DF) \n    \n\n  \n\n\n\n\n\n\n\n\n\n\n\n\n\n\n\n\n\n\n\n\n\n\n\n\n\n\n\n\n\n\n\n	\n		\n			\n									2025 Key Event Sponsors\n								\n					\n						\n							\n								\n								\n									\n																				\n											\n												\n											\n										\n																			\n\n							\n									\n																				\n											\n												\n											\n										\n																			\n\n							\n									\n																				\n											\n												\n											\n										\n																			\n\n							\n									\n																				\n											\n												\n											\n										\n																			\n\n							\n									\n																				\n											\n												\n											\n										\n																			\n\n							\n									\n																				\n											\n												\n											\n										\n																			\n\n							\n									\n																				\n											\n												\n											\n										\n																			\n\n							\n									\n																				\n											\n												\n											\n										\n																			\n\n							\n									\n																				\n											\n												\n											\n										\n																			\n\n							\n									\n																				\n											\n												\n											\n										\n																			\n\n							\n									\n																				\n											\n												\n											\n										\n																			\n\n							\n									\n																				\n											\n												\n											\n										\n																			\n\n							\n									\n																				\n											\n												\n											\n										\n																			\n\n							\n									\n																				\n											\n												\n											\n										\n																			\n\n							\n									\n																				\n											\n												\n											\n										\n																			\n\n													\n					\n				\n\n									\n						\n					\n									\n									\n						Meet our Sponsors\n					\n							\n		\n	\n\n\n\n\n\n\n\n  \n    \n              \n          \n            \n              \n            \n          \n        \n            \n                  Location\n                The Cheyenne Mountain Resort\nThe Cheyenne Mountain Resort is located at 3225 Broadmoor Valley Road in south Colorado Springs.  Attendees can self-park or use the valet service. \n      \n    \n      \n\n\n\n\n\n\n\n\n	\n	\n		\n			\n				More Info\nWe thank you for you continued support of Catholic Charities through the St. Patrick’s Day event which is our only agency-wide fundraising event.  Your support allows us to help so many of our vulnerable neighbors in need.  We need your help more than ever.  Please consider making your 100% tax-deductible gift today to give hope to an individual or family in need.  If you would like to make a donation: \n\nUse the form above to make online gifts\nMail a check to Catholic Charities at 228 North Cascade Ave.\, Colorado Springs\, CO 80903\nExplore more giving options\, such as stock transfers\, IRA Qualified Charitable Distributions (QCDs)\, the Sponsor a Day program\, Legacy Giving\, and more.\n\n  \n				\n\n				  \n				\n			\n		\n	\n\n\n\n			\n	\n		\n							Photo Gallery
URL:https://www.ccharitiescc.org/event/st-patricks-day-shamrock-shindig/
CATEGORIES:Major Events
END:VEVENT
END:VCALENDAR